BEGIN:VCALENDAR
VERSION:2.0
PRODID:VI feira Antiga de Botão
X-WR-CALNAME:VI feira Antiga de Botão
X-WR-TIMEZONE:Europe/Lisbon
X-PUBLISHED-TTL:P1W
BEGIN:VTIMEZONE
TZID:Europe/Lisbon
X-LIC-LOCATION:Europe/Lisbon
END:VTIMEZONE
BEGIN:VEVENT
UID:69e785bed0111
DTSTART;VALUE=DATE:20230113
SEQUENCE:0
TRANSP:OPAQUE
DTEND;VALUE=DATE:20230114
SUMMARY:VI feira Antiga de Botão
CLASS:PUBLIC
DESCRIPTION:Botão foi\, neste fim de de semana\, palco de tradições e em
 oções\, num cenário rural que outros tempos caraterizou a freguesia\, i
 nstalando-se no coração da localidade. A comunidade despiu-se de precon
 ceitos e trajou a rigor para reavivar memórias e dar a conhecer aos mais 
 novos as modas de outrora. a Feira Antiga do Botão promoveu música e os
  produtos biológicos\, brinquedos de madeira\, utensílios agrícolas\, a
 rtesanato diverso\, jogos e obviamente\, a gastronomia\, fizeram as delíc
 ias de quem lá passou nos últimos três dias.
X-MICROSOFT-CDO-ALLDAYEVENT:TRUE
DTSTAMP:20260421T141214Z
END:VEVENT
END:VCALENDAR