BEGIN:VCALENDAR
VERSION:2.0
PRODID:VIII Encontro das Coletividades
X-WR-CALNAME:VIII Encontro das Coletividades
X-WR-TIMEZONE:Europe/Lisbon
X-PUBLISHED-TTL:P1W
BEGIN:VTIMEZONE
TZID:Europe/Lisbon
X-LIC-LOCATION:Europe/Lisbon
END:VTIMEZONE
BEGIN:VEVENT
UID:69e7bd13728e1
DTSTART;VALUE=DATE:20230526
SEQUENCE:0
TRANSP:OPAQUE
DTEND;VALUE=DATE:20230527
SUMMARY:VIII Encontro das Coletividades
CLASS:PUBLIC
DESCRIPTION:O VIII Encontro das Coletividades volta a afirma-se como um pon
 to de encontro\, convívio e partilha da população e de todas as forças
  vivas desta União das Freguesias de Souselas e Botão\, conforme salient
 a Rui Soares\,&nbsp\; presidente da União de Freguesias de Souselas e Bot
 ão.“As expectativas para este evento são grandes”\, refere o autarca
 \, dando conta de três dias e noites de “boa música\, gastronomia\, ar
 tesanato e bom convívio\, não podendo também faltar os insufláveis par
 a encanto das crianças”.“Esta é uma oportunidade para todo o concelh
 o e a região ficarem a conhecer as atividades e a gastronomia das várias
  localidades da União das Freguesias de Souselas e Botão\, conviverem e 
 desfrutarem de um ambiente de festa”\, sublinha Rui Soares\, dirigindo u
 m convite aberto a todos.
X-MICROSOFT-CDO-ALLDAYEVENT:TRUE
DTSTAMP:20260421T180819Z
END:VEVENT
END:VCALENDAR